BEGIN:VCALENDAR
VERSION:2.0
PRODID:spatie/icalendar-generator
DESCRIPTION:Events from Ullesthorpe Scout Campsite
X-WR-CALDESC:Events from Ullesthorpe Scout Campsite
REFRESH-INTERVAL;VALUE=DURATION:PT1440M
X-PUBLISHED-TTL:PT1440M
BEGIN:VTIMEZONE
TZID:Europe/London
BEGIN:STANDARD
DTSTART:20251026T020000Z
TZOFFSETFROM:+0100
TZOFFSETTO:+0000
END:STANDARD
BEGIN:DAYLIGHT
DTSTART:20260329T010000Z
TZOFFSETFROM:+0000
TZOFFSETTO:+0100
END:DAYLIGHT
BEGIN:STANDARD
DTSTART:20261025T020000Z
TZOFFSETFROM:+0100
TZOFFSETTO:+0000
END:STANDARD
END:VTIMEZONE
BEGIN:VTIMEZONE
TZID:UTC
BEGIN:STANDARD
DTSTART:20250726T161935Z
TZOFFSETFROM:+0000
TZOFFSETTO:+0000
END:STANDARD
END:VTIMEZONE
BEGIN:VEVENT
UID:205-75
DTSTAMP:20260422T161935Z
SUMMARY:Work Day
LOCATION:
ORGANIZER;CN=Ceri Sinfield:MAILTO:ceri.sinfield@southleics-scouts.org.uk
RRULE:FREQ=MONTHLY;BYDAY=1SA;UNTIL=20261205T000000Z
DTSTART;TZID=Europe/London;VALUE=DATE:20260502
DTEND;TZID=Europe/London;VALUE=DATE:20260503
X-ALT-DESC;FMTTYPE=TEXT/HTML:
CATEGORIES:Work Day
URL;VALUE=URI:https://scoutcampsite.southleics-scouts.org.uk/mc-events/work
 -day-10/?mc_id=205
METHOD:PUBLISH
END:VEVENT
END:VCALENDAR